BEGIN:VCALENDAR
VERSION:2.0
PRODID:-// - ECPv6.15.12.2//NONSGML v1.0//EN
CALSCALE:GREGORIAN
METHOD:PUBLISH
X-ORIGINAL-URL:https://jomotickets.com
X-WR-CALDESC:Events for 
REFRESH-INTERVAL;VALUE=DURATION:PT1H
X-Robots-Tag:noindex
X-PUBLISHED-TTL:PT1H
BEGIN:VTIMEZONE
TZID:America/Chicago
BEGIN:DAYLIGHT
TZOFFSETFROM:-0600
TZOFFSETTO:-0500
TZNAME:CDT
DTSTART:20190310T080000
END:DAYLIGHT
BEGIN:STANDARD
TZOFFSETFROM:-0500
TZOFFSETTO:-0600
TZNAME:CST
DTSTART:20191103T070000
END:STANDARD
BEGIN:DAYLIGHT
TZOFFSETFROM:-0600
TZOFFSETTO:-0500
TZNAME:CDT
DTSTART:20200308T080000
END:DAYLIGHT
BEGIN:STANDARD
TZOFFSETFROM:-0500
TZOFFSETTO:-0600
TZNAME:CST
DTSTART:20201101T070000
END:STANDARD
BEGIN:DAYLIGHT
TZOFFSETFROM:-0600
TZOFFSETTO:-0500
TZNAME:CDT
DTSTART:20210314T080000
END:DAYLIGHT
BEGIN:STANDARD
TZOFFSETFROM:-0500
TZOFFSETTO:-0600
TZNAME:CST
DTSTART:20211107T070000
END:STANDARD
END:VTIMEZONE
BEGIN:VEVENT
DTSTART;TZID=America/Chicago:20201127T133000
DTEND;TZID=America/Chicago:20201206T080000
DTSTAMP:20260421T063144
CREATED:20201019T191048Z
LAST-MODIFIED:20201022T171504Z
UID:10000183-1606483800-1607241600@jomotickets.com
SUMMARY:A Christmas Story
DESCRIPTION:Humorist Jean Shepherd’s memoir of growing up in the midwest in the 1940s follows 9-year-old Ralphie Parker in his quest to get a genuine Red Ryder BB gun under the tree for Christmas. Ralphie pleads his case before his mother\, his teacher and even Santa Claus himself at Higbee’s Department Store. The consistent response: “You’ll shoot your eye out!” All the elements from the beloved motion picture are here\, including the family’s temperamental exploding furnace; Scut Farkas\, the school bully; the boys’ experiment with a wet tongue on a cold lamppost; the Little Orphan Annie decoder pin; Ralphie’s father winning a lamp shaped like a woman’s leg in a net stocking; Ralphie’s fantasy scenarios and more.
URL:https://jomotickets.com/event/a-christmas-story
LOCATION:Ruby Theatre\, 615 S. 10th Street\, St. Joseph\, MO\, 64501\, United States
CATEGORIES:Comedy,Dinner Theater,Robidoux Resident Theatre,Ruby Theatre
ATTACH;FMTTYPE=image/png:https://jomotickets.com/wp-content/uploads/2020/10/xmas_story_web1.png
ORGANIZER;CN="Robidoux Resident Theatre":MAILTO:info@rrtstjoe.org
END:VEVENT
END:VCALENDAR